BEGIN:VCALENDAR
VERSION:2.0
PRODID:-//Horseshoe Grille - Reading, MA - ECPv6.15.17.1//NONSGML v1.0//EN
CALSCALE:GREGORIAN
METHOD:PUBLISH
X-ORIGINAL-URL:https://horseshoegrille.com
X-WR-CALDESC:Events for Horseshoe Grille - Reading, MA
REFRESH-INTERVAL;VALUE=DURATION:PT1H
X-Robots-Tag:noindex
X-PUBLISHED-TTL:PT1H
BEGIN:VTIMEZONE
TZID:America/New_York
BEGIN:DAYLIGHT
TZOFFSETFROM:-0500
TZOFFSETTO:-0400
TZNAME:EDT
DTSTART:20170312T070000
END:DAYLIGHT
BEGIN:STANDARD
TZOFFSETFROM:-0400
TZOFFSETTO:-0500
TZNAME:EST
DTSTART:20171105T060000
END:STANDARD
BEGIN:DAYLIGHT
TZOFFSETFROM:-0500
TZOFFSETTO:-0400
TZNAME:EDT
DTSTART:20180311T070000
END:DAYLIGHT
BEGIN:STANDARD
TZOFFSETFROM:-0400
TZOFFSETTO:-0500
TZNAME:EST
DTSTART:20181104T060000
END:STANDARD
BEGIN:DAYLIGHT
TZOFFSETFROM:-0500
TZOFFSETTO:-0400
TZNAME:EDT
DTSTART:20190310T070000
END:DAYLIGHT
BEGIN:STANDARD
TZOFFSETFROM:-0400
TZOFFSETTO:-0500
TZNAME:EST
DTSTART:20191103T060000
END:STANDARD
BEGIN:DAYLIGHT
TZOFFSETFROM:-0500
TZOFFSETTO:-0400
TZNAME:EDT
DTSTART:20200308T070000
END:DAYLIGHT
BEGIN:STANDARD
TZOFFSETFROM:-0400
TZOFFSETTO:-0500
TZNAME:EST
DTSTART:20201101T060000
END:STANDARD
BEGIN:DAYLIGHT
TZOFFSETFROM:-0500
TZOFFSETTO:-0400
TZNAME:EDT
DTSTART:20210314T070000
END:DAYLIGHT
BEGIN:STANDARD
TZOFFSETFROM:-0400
TZOFFSETTO:-0500
TZNAME:EST
DTSTART:20211107T060000
END:STANDARD
END:VTIMEZONE
BEGIN:VTIMEZONE
TZID:UTC
BEGIN:STANDARD
TZOFFSETFROM:+0000
TZOFFSETTO:+0000
TZNAME:UTC
DTSTART:20180101T000000
END:STANDARD
END:VTIMEZONE
BEGIN:VEVENT
DTSTART;TZID=America/New_York:20181018T180000
DTEND;TZID=America/New_York:20181018T210000
DTSTAMP:20260419T084123
CREATED:20181012T171011Z
LAST-MODIFIED:20181012T171111Z
UID:910-1539885600-1539896400@horseshoegrille.com
SUMMARY:Last Two Parties On The Patio! (Oct. 18 + 25)
DESCRIPTION:It’s been a great season on The Patio. Don’t miss the last two events of the season. The music starts at 6pm Thursdays. Please drop by and enjoy a great night of music\, food and cocktails. \nHere’s what’s happening the next two Thursdays: \nOctober 18: Andrew McManus – Copper Dog\nOctober 25: Seraphina James – Guiness
URL:https://horseshoegrille.com/event/last-two-parties-on-the-patio/
LOCATION:Horseshoe Grille\, 226 Main Street\, North Reading\, 01864\, United States
CATEGORIES:Events
ATTACH;FMTTYPE=image/png:https://horseshoegrille.com/wp-content/uploads/2018/10/LastPatio.png
END:VEVENT
BEGIN:VEVENT
DTSTART;TZID=America/New_York:20181025T180000
DTEND;TZID=America/New_York:20181025T210000
DTSTAMP:20260419T084123
CREATED:20180910T191443Z
LAST-MODIFIED:20180910T191635Z
UID:889-1540490400-1540501200@horseshoegrille.com
SUMMARY:Party on the Patio! (Seraphina James/ Guinness) *Last One*
DESCRIPTION:PARTY ON THE PATIO!\nCome and Hang Out at THE COOLEST Place in Town! Cool Drinks\, Cool Food and Cool People 🙂\nThis is our LAST party on the patio for the season! Come Join us! \n10/25 Seraphina James/ Guinness
URL:https://horseshoegrille.com/event/party-on-the-patio-seraphina-james-guinness-last-one/
LOCATION:Horseshoe Grille\, 226 Main Street\, North Reading\, 01864\, United States
CATEGORIES:Events
ATTACH;FMTTYPE=image/png:https://horseshoegrille.com/wp-content/uploads/2018/04/PATIO.png
END:VEVENT
BEGIN:VEVENT
DTSTART;VALUE=DATE:20181101
DTEND;VALUE=DATE:20181115
DTSTAMP:20260419T084123
CREATED:20181030T143054Z
LAST-MODIFIED:20181030T143054Z
UID:933-1541030400-1542239999@horseshoegrille.com
SUMMARY:New Desserts to Try!
DESCRIPTION:New Desserts to Try!\nFor every new Fall Dessert you try we’ll Donate $1 to the North Reading Food Pantry!
URL:https://horseshoegrille.com/event/new-desserts-to-try/
LOCATION:Horseshoe Grille\, 226 Main Street\, North Reading\, 01864\, United States
CATEGORIES:Events
ATTACH;FMTTYPE=image/png:https://horseshoegrille.com/wp-content/uploads/2018/10/NewDes.png
END:VEVENT
BEGIN:VEVENT
DTSTART;TZID=America/New_York:20181110T140000
DTEND;TZID=America/New_York:20181110T170000
DTSTAMP:20260419T084123
CREATED:20181030T141648Z
LAST-MODIFIED:20181030T141713Z
UID:923-1541858400-1541869200@horseshoegrille.com
SUMMARY:FREE Dinner for Veterans of Stoneham\, Reading or North Reading
DESCRIPTION:Barile Funeral Home of Reading and Stoneham will treat our well deserving Vets to dinner at the Horseshoe Grille. Reservations required\, please contact Barile FH at 781-438-2280 or barilefuneral.com. Vets must be resident of Stoneham\, Reading or North Reading. A selected menu is available. Entrees and non-alcoholic beverages are included. 20% gratuity will be added on the pre-discounted amount. Please show proof of residency. \nLimited seating
URL:https://horseshoegrille.com/event/free-dinner-for-veterans-of-stoneham-reading-or-north-reading/
LOCATION:Horseshoe Grille\, 226 Main Street\, North Reading\, 01864\, United States
CATEGORIES:Events
ATTACH;FMTTYPE=image/png:https://horseshoegrille.com/wp-content/uploads/2018/10/ThankYou.png
END:VEVENT
BEGIN:VEVENT
DTSTART;TZID=America/New_York:20181121T193000
DTEND;TZID=America/New_York:20181121T220000
DTSTAMP:20260419T084123
CREATED:20181121T153003Z
LAST-MODIFIED:20181121T160341Z
UID:942-1542828600-1542837600@horseshoegrille.com
SUMMARY:Party On The Patio!
DESCRIPTION:Join us at 7:30!\nWith DJ Tom Bruhl
URL:https://horseshoegrille.com/event/party-on-the-patio-2/
LOCATION:Horseshoe Grille\, 226 Main Street\, North Reading\, 01864\, United States
CATEGORIES:Events
ATTACH;FMTTYPE=image/png:https://horseshoegrille.com/wp-content/uploads/2018/11/Partty.png
END:VEVENT
BEGIN:VEVENT
DTSTART;TZID=America/New_York:20181122T080000
DTEND;TZID=America/New_York:20181122T110000
DTSTAMP:20260419T084123
CREATED:20181121T160709Z
LAST-MODIFIED:20181121T160709Z
UID:947-1542873600-1542884400@horseshoegrille.com
SUMMARY:Thanksgiving Breakfast - 25% OFF for Turkey Trot Runners!
DESCRIPTION:25% OFF!\nFor All Turkey Trot Runners!\n\nPlease join us for a delicious\, warm breakfast after the big run.
URL:https://horseshoegrille.com/event/thanksgiving-breakfast-25-off-for-turkey-trot-runners/
LOCATION:Horseshoe Grille\, 226 Main Street\, North Reading\, 01864\, United States
CATEGORIES:Events
ATTACH;FMTTYPE=image/png:https://horseshoegrille.com/wp-content/uploads/2018/11/TurkeyBfast.png
END:VEVENT
BEGIN:VEVENT
DTSTART;VALUE=DATE:20181204
DTEND;VALUE=DATE:20190101
DTSTAMP:20260419T084123
CREATED:20181205T050314Z
LAST-MODIFIED:20181205T050446Z
UID:975-1543881600-1546300799@horseshoegrille.com
SUMMARY:Holiday Gift Cards are Here! (Spend $100\, Get $20 Coupon)
DESCRIPTION:Buy $100 in Gift Cards and Get a $20 HG Coupon\nEvery $100 purchased and we will treat you to a $20 coupon.
URL:https://horseshoegrille.com/event/holiday-gift-cards-are-here/
LOCATION:Horseshoe Grille\, 226 Main Street\, North Reading\, 01864\, United States
CATEGORIES:Events
ATTACH;FMTTYPE=image/png:https://horseshoegrille.com/wp-content/uploads/2018/12/GiftCardsHol.png
END:VEVENT
BEGIN:VEVENT
DTSTART;VALUE=DATE:20181205
DTEND;VALUE=DATE:20190321
DTSTAMP:20260419T084123
CREATED:20181205T051125Z
LAST-MODIFIED:20181205T051424Z
UID:980-1543968000-1553126399@horseshoegrille.com
SUMMARY:Try our NEW Winter Menu!
DESCRIPTION:It’s the Holiday Season and the weather is Cold!\nThat means the fire is rolling at The Horseshoe Grille and our New Winter Menu is here. So stop by\, warm yourself and enjoy a wonderful homemade meal with family and friends.
URL:https://horseshoegrille.com/event/try-our-new-winter-menu/
LOCATION:Horseshoe Grille\, 226 Main Street\, North Reading\, 01864\, United States
CATEGORIES:Events
ATTACH;FMTTYPE=image/png:https://horseshoegrille.com/wp-content/uploads/2018/12/MENU.png
END:VEVENT
BEGIN:VEVENT
DTSTART;VALUE=DATE:20181226
DTEND;VALUE=DATE:20190101
DTSTAMP:20260419T084123
CREATED:20181226T163233Z
LAST-MODIFIED:20181226T173459Z
UID:996-1545782400-1546300799@horseshoegrille.com
SUMMARY:Thank you to everyone who donated their $20 coupons to Neighbor Helping Neighbor
DESCRIPTION:We would like to thank our wonderful guests who generously donated their $20 coupons back to Neighbor Helping Neighbor.\nWe will happily mtch your donations through 12/31/18
URL:https://horseshoegrille.com/event/thank-you-to-everyone-who-donated-their-20-coupons-to-neighbor-helping-neighbor/
LOCATION:Horseshoe Grille\, 226 Main Street\, North Reading\, 01864\, United States
CATEGORIES:Events
ATTACH;FMTTYPE=image/png:https://horseshoegrille.com/wp-content/uploads/2018/12/THANK_YOU.png
END:VEVENT
BEGIN:VEVENT
DTSTART;TZID=America/New_York:20190502T190000
DTEND;TZID=America/New_York:20190502T210000
DTSTAMP:20260419T084123
CREATED:20190503T232417Z
LAST-MODIFIED:20190913T192013Z
UID:1080-1556823600-1556830800@horseshoegrille.com
SUMMARY:Let's Party on the Patio! Thursdays 7-9
DESCRIPTION:Party with us!\nThe music starts at 7pm every Thursday night. Please drop by and enjoy a great night of music\, food and cocktails \nHere’s what’s happening through October 17: \n9/19   Timmy Brown\n9/26   Lisa Coulter\n10/3   TBD\n10/10  Andrew McManus\n10/17  Fred Ellsworth
URL:https://horseshoegrille.com/event/party-on-the-patio-thursdays-7-9/
LOCATION:Horseshoe Grille\, 226 Main Street\, North Reading\, 01864\, United States
CATEGORIES:Events
ATTACH;FMTTYPE=image/jpeg:https://horseshoegrille.com/wp-content/uploads/2019/05/PARTYPATIO.jpg
END:VEVENT
BEGIN:VEVENT
DTSTART;TZID=America/New_York:20190504T170000
DTEND;TZID=America/New_York:20190504T223000
DTSTAMP:20260419T084123
CREATED:20180411T205107Z
LAST-MODIFIED:20190418T200923Z
UID:705-1556989200-1557009000@horseshoegrille.com
SUMMARY:Kentucky Derby Party!
DESCRIPTION:Kentucky Derby Party!\nJoin Us on the Patio May 5th\, 5PM \n\nDerby Contests\nBest Derby Outfit\nBest Derby Hat\nMint Juleps\nLight Apps\n\nPLUS! Silent Auction & Raffle\nProceeds benefit “Mighty Meredith”
URL:https://horseshoegrille.com/event/705/
LOCATION:Horseshoe Grille\, 226 Main Street\, North Reading\, 01864\, United States
CATEGORIES:Events
ATTACH;FMTTYPE=image/jpeg:https://horseshoegrille.com/wp-content/uploads/2018/04/derby.jpg
END:VEVENT
BEGIN:VEVENT
DTSTART;TZID=America/New_York:20190513T180000
DTEND;TZID=America/New_York:20190513T220000
DTSTAMP:20260419T084123
CREATED:20190416T162817Z
LAST-MODIFIED:20190416T162907Z
UID:1042-1557770400-1557784800@horseshoegrille.com
SUMMARY:Cigars & Sam Adams Night
DESCRIPTION:Delicious food and Sam Adams Beer.\nCigars provided by 2 Guys Smoke Shop.\n$75 Per person\, tax & tip included.
URL:https://horseshoegrille.com/event/cigars-sam-adams-night/
LOCATION:Horseshoe Grille\, 226 Main Street\, North Reading\, 01864\, United States
CATEGORIES:Events
ATTACH;FMTTYPE=image/jpeg:https://horseshoegrille.com/wp-content/uploads/2019/04/CIGAREVENT.jpg
END:VEVENT
BEGIN:VEVENT
DTSTART;VALUE=DATE:20190601
DTEND;VALUE=DATE:20190701
DTSTAMP:20260419T084123
CREATED:20180601T144134Z
LAST-MODIFIED:20190611T232912Z
UID:763-1559347200-1561939199@horseshoegrille.com
SUMMARY:Buy a $50 Horseshoe Grille Gift Card and get a $10 Horseshoe Grille Gift Card on us
DESCRIPTION:Dads\, Grads\, Teachers and Coaches all deserve a Horseshoe Grille Gift Card!\nBuy a $50 Horseshoe Grille Gift Card and receive a $10 Horseshoe Grille Gift Card Now through June 30th. \nPurchase gift cards
URL:https://horseshoegrille.com/event/buy-a-50-horseshoe-grille-gift-card-get-a-10-horseshoe-grille-gift-card/
LOCATION:Horseshoe Grille\, 226 Main Street\, North Reading\, 01864\, United States
CATEGORIES:Events
ATTACH;FMTTYPE=image/png:https://horseshoegrille.com/wp-content/uploads/2018/06/dadsgrads2018.png
END:VEVENT
BEGIN:VEVENT
DTSTART;VALUE=DATE:20190616
DTEND;VALUE=DATE:20190617
DTSTAMP:20260419T084123
CREATED:20180611T143652Z
LAST-MODIFIED:20190611T232755Z
UID:774-1560643200-1560729599@horseshoegrille.com
SUMMARY:Celebrate Father’s Day at Horseshoe Grille!
DESCRIPTION:Treat Dad Like A King with our great specials.\nMake your reservation for Father’s Day Today! \nCall 978-664-3951 or Reserve through Yelp! \nMake a reservation
URL:https://horseshoegrille.com/event/celebrate-fathers-day-at-horseshoe-grille/
LOCATION:Horseshoe Grille\, 226 Main Street\, North Reading\, 01864\, United States
CATEGORIES:Events
ATTACH;FMTTYPE=image/png:https://horseshoegrille.com/wp-content/uploads/2018/06/FathersDay.png
END:VEVENT
BEGIN:VEVENT
DTSTART;VALUE=DATE:20190702
DTEND;VALUE=DATE:20190903
DTSTAMP:20260419T084123
CREATED:20190702T135915Z
LAST-MODIFIED:20190702T140153Z
UID:1175-1562025600-1567468799@horseshoegrille.com
SUMMARY:Let Us Cater Your Next BBQ!
DESCRIPTION:Treat Dad like a KING with our great specials.\nBring US to your BBQ!\nPlanning an outdoor event? Why not put a big check mark next to the food items and let the Horseshoe Grille worry about the cooking. By letting Horseshoe Grille cater your next BBQ\, you can actually be a guest at your own party \nWe customize our menu to meet your needs! \nWe are CLOSED July 4th\, please pick up orders July 3rd. Call Catering: 978-664-3591
URL:https://horseshoegrille.com/event/1175/
LOCATION:Horseshoe Grille\, 226 Main Street\, North Reading\, 01864\, United States
CATEGORIES:Events
ATTACH;FMTTYPE=image/png:https://horseshoegrille.com/wp-content/uploads/2019/07/bbq.png
END:VEVENT
BEGIN:VEVENT
DTSTART;VALUE=DATE:20190702
DTEND;VALUE=DATE:20190903
DTSTAMP:20260419T084123
CREATED:20190702T140738Z
LAST-MODIFIED:20190702T140738Z
UID:1180-1562025600-1567468799@horseshoegrille.com
SUMMARY:Thank YOU for another successful tourney!
DESCRIPTION:Thanks to all our sponsors\, players\, and volunteers for another successful tourney!
URL:https://horseshoegrille.com/event/thank-you-for-another-successful-tourney/
LOCATION:Horseshoe Grille\, 226 Main Street\, North Reading\, 01864\, United States
CATEGORIES:Events
ATTACH;FMTTYPE=image/png:https://horseshoegrille.com/wp-content/uploads/2019/07/JFundThanks2019.png
END:VEVENT
BEGIN:VEVENT
DTSTART;VALUE=DATE:20190803
DTEND;VALUE=DATE:20190804
DTSTAMP:20260419T084123
CREATED:20180219T194307Z
LAST-MODIFIED:20190807T003320Z
UID:656-1564790400-1564876799@horseshoegrille.com
SUMMARY:Kids Eat Free with Each Adult Entrée
DESCRIPTION:“Get Away” from Cooking Vacation!\nSaturdays in August\nKids eat for FREE on Saturdays from the Kids menu. So take a break from eating in. For every adult entrée purchase receive a FREE Kids Meal! \nCan’t be combined with any other offer\, kids must be 12 and under.
URL:https://horseshoegrille.com/event/kids-eat-free/
LOCATION:Horseshoe Grille\, 226 Main Street\, North Reading\, 01864\, United States
CATEGORIES:Events
ATTACH;FMTTYPE=image/png:https://horseshoegrille.com/wp-content/uploads/2018/02/kids.png
END:VEVENT
BEGIN:VEVENT
DTSTART;VALUE=DATE:20190811
DTEND;VALUE=DATE:20190812
DTSTAMP:20260419T084123
CREATED:20190807T012256Z
LAST-MODIFIED:20190807T012256Z
UID:1244-1565481600-1565567999@horseshoegrille.com
SUMMARY:Sunday Sangria-n-Slider
DESCRIPTION:Sunday Sangria and a Slider $9.95\nSundays in August get a pulled pork or BLT Slider with red or white Sangria for only $9.95! Now through August 25th\, 2019.
URL:https://horseshoegrille.com/event/sunday-sangria-n-slider/
LOCATION:Horseshoe Grille\, 226 Main Street\, North Reading\, 01864\, United States
CATEGORIES:Events
ATTACH;FMTTYPE=image/png:https://horseshoegrille.com/wp-content/uploads/2019/08/Sunday_sangria_slider.png
END:VEVENT
BEGIN:VEVENT
DTSTART;VALUE=DATE:20190812
DTEND;VALUE=DATE:20190813
DTSTAMP:20260419T084123
CREATED:20190807T005850Z
LAST-MODIFIED:20190807T005850Z
UID:1237-1565568000-1565654399@horseshoegrille.com
SUMMARY:Mondays in August: $9.95 Nachos & Beer
DESCRIPTION:Join Us On Mondays!\nBlow away the Monday Blues at The Horseshoe Grille with our Mondays in August special. Order our delicious small Nacho plate and add any 14oz draft or 12oz bottle for just $9.95. Hurry\, it ends after the 26th!
URL:https://horseshoegrille.com/event/mondays-in-august-9-95-nachos-beer/
LOCATION:Horseshoe Grille\, 226 Main Street\, North Reading\, 01864\, United States
CATEGORIES:Events
ATTACH;FMTTYPE=image/png:https://horseshoegrille.com/wp-content/uploads/2019/08/Nachos-beer2019.png
END:VEVENT
BEGIN:VEVENT
DTSTART;VALUE=DATE:20190918
DTEND;VALUE=DATE:20191202
DTSTAMP:20260419T084123
CREATED:20190919T035726Z
LAST-MODIFIED:20191202T144201Z
UID:1292-1568764800-1575244799@horseshoegrille.com
SUMMARY:Fall Cocktails Have Arrived
DESCRIPTION:Our Fall Cocktails are always a hit with our customers. Full of Autumn flavors\, comforting and delicious. Please drop in and try a few out with family and friends.\n\nPumpkin Russian\nCaramel Apple\nHarvest Margarita\nHarvest Mudslide\nFall Sangria\n\nVIEW COCKTAIL MENU
URL:https://horseshoegrille.com/event/fall-cocktails-have-arrived/
LOCATION:Horseshoe Grille\, 226 Main Street\, North Reading\, 01864\, United States
CATEGORIES:Events
ATTACH;FMTTYPE=image/png:https://horseshoegrille.com/wp-content/uploads/2019/09/FallCocktails.png
END:VEVENT
BEGIN:VEVENT
DTSTART;TZID=America/New_York:20191021T180000
DTEND;TZID=America/New_York:20191021T220000
DTSTAMP:20260419T084123
CREATED:20190919T040520Z
LAST-MODIFIED:20190919T041056Z
UID:1296-1571680800-1571695200@horseshoegrille.com
SUMMARY:Bourbon & Cigar Night
DESCRIPTION:Bourbon and Cigar Night Monday October 21st at 6:00\, 5 courses of delicious food paired wit 5 bourbons and 3 cigars for $75. Featured bourbons are Redemption\, Bib & Tucker and Masterson’s.\nAll cigars provided by Two Guys Cigars.
URL:https://horseshoegrille.com/event/1296/
LOCATION:Horseshoe Grille\, 226 Main Street\, North Reading\, 01864\, United States
CATEGORIES:Events
ATTACH;FMTTYPE=image/png:https://horseshoegrille.com/wp-content/uploads/2019/09/Bourbon.png
END:VEVENT
BEGIN:VEVENT
DTSTART;VALUE=DATE:20191029
DTEND;VALUE=DATE:20200105
DTSTAMP:20260419T084123
CREATED:20181121T152304Z
LAST-MODIFIED:20200106T005307Z
UID:939-1572307200-1578182399@horseshoegrille.com
SUMMARY:Create Holiday Memories!
DESCRIPTION:Book your Holiday Party Now!\nNow’s the time to book your Holiday Party at The Horseshoe Grille. The prime dates and times go very quickly so lock in today. We can customize our menu to meet any and all needs. \nBook now and be a guest at your own party. \n978-664-3591
URL:https://horseshoegrille.com/event/create-holiday-memories/
LOCATION:Horseshoe Grille\, 226 Main Street\, North Reading\, 01864\, United States
CATEGORIES:Events
ATTACH;FMTTYPE=image/png:https://horseshoegrille.com/wp-content/uploads/2018/11/Holiday.png
END:VEVENT
BEGIN:VEVENT
DTSTART;VALUE=DATE:20191031
DTEND;VALUE=DATE:20191101
DTSTAMP:20260419T084123
CREATED:20191029T162527Z
LAST-MODIFIED:20191029T162527Z
UID:1312-1572480000-1572566399@horseshoegrille.com
SUMMARY:Spooky Kids Eat Free on Halloween!
DESCRIPTION:For every adult entrée purchased receive a FREE kids meal! Can’t be combined with any other offers.\nOffer good on October 31st only.
URL:https://horseshoegrille.com/event/spooky-kids-eat-free-on-halloween/
LOCATION:Horseshoe Grille\, 226 Main Street\, North Reading\, 01864\, United States
CATEGORIES:Events
ATTACH;FMTTYPE=image/png:https://horseshoegrille.com/wp-content/uploads/2019/10/Halloween.png
END:VEVENT
BEGIN:VEVENT
DTSTART;VALUE=DATE:20191101
DTEND;VALUE=DATE:20191201
DTSTAMP:20260419T084123
CREATED:20171116T224630Z
LAST-MODIFIED:20191113T181641Z
UID:511-1572566400-1575158399@horseshoegrille.com
SUMMARY:Try a New Fall Item & We’ll Donate to the Food Pantry!
DESCRIPTION:For every new Fall item you purchase in November we will Donate $1 to the North Reading Food Pantry!\nLast year we donated over $500! \nOffer is good through November 30\, 2019
URL:https://horseshoegrille.com/event/try-a-new-dessert-well-donate-to-the-food-pantry/
LOCATION:Horseshoe Grille\, 226 Main Street\, North Reading\, 01864\, United States
CATEGORIES:Events
ATTACH;FMTTYPE=image/jpeg:https://horseshoegrille.com/wp-content/uploads/2017/11/FoodPantry.jpg
END:VEVENT
BEGIN:VEVENT
DTSTART;VALUE=DATE:20191105
DTEND;VALUE=DATE:20191202
DTSTAMP:20260419T084123
CREATED:20191104T161326Z
LAST-MODIFIED:20191202T144117Z
UID:1326-1572912000-1575244799@horseshoegrille.com
SUMMARY:NEW Fall Menu Has Arrived!
DESCRIPTION:New Seasonal Menu Nov. 5th!\nFall is here and so is our famous fall Seasonal menu. Packed with all the soul-satisfying dishes you’ve come to expect from the Horseshoe Grille. Throw on a sweater\, grab a seat by the fireplace and relax. We look forward to seeing you here. \nCall for Reservations: 978-664-3591 \nView fall menu here
URL:https://horseshoegrille.com/event/new-fall-menu-has-arrived/
LOCATION:Horseshoe Grille\, 226 Main Street\, North Reading\, 01864\, United States
CATEGORIES:Events
ATTACH;FMTTYPE=image/jpeg:https://horseshoegrille.com/wp-content/uploads/2019/11/Fallmenu2019.jpg
END:VEVENT
BEGIN:VEVENT
DTSTART;TZID=America/New_York:20191110T130000
DTEND;TZID=America/New_York:20191110T140000
DTSTAMP:20260419T084123
CREATED:20191104T162103Z
LAST-MODIFIED:20191104T162128Z
UID:1330-1573390800-1573394400@horseshoegrille.com
SUMMARY:Thank You Veterans Dinner from Barile Funeral Home
DESCRIPTION:Sunday\, November 10th!\nLimited Seating 1:00 pm \nBarile Funeral Home of Reading and Stoneham will treat our well deserving Vets to dinner at the Horseshoe Grille. \nReservations required\, please contact Barile Funeral Home at 781-438-2280 or barilefuneral.com \nVets must be resident of Stoneham\, Reading or North Reading. A selected menu is available. Entrees and non-alcoholic beverages are included. 20% gratuity will be added on the pre-discount amount. Please show proof of residency.
URL:https://horseshoegrille.com/event/thank-you-veterans-dinner-from-barile/
LOCATION:Horseshoe Grille\, 226 Main Street\, North Reading\, 01864\, United States
CATEGORIES:Events
ATTACH;FMTTYPE=image/jpeg:https://horseshoegrille.com/wp-content/uploads/2019/11/ThankYouVeterans.jpg
END:VEVENT
BEGIN:VEVENT
DTSTART;VALUE=DATE:20191111
DTEND;VALUE=DATE:20191112
DTSTAMP:20260419T084123
CREATED:20181030T142349Z
LAST-MODIFIED:20191104T162526Z
UID:927-1573430400-1573516799@horseshoegrille.com
SUMMARY:ALL Veterans Eat for FREE on Veterans Day
DESCRIPTION:Veterans Eat For FREE!\nThank You Veterans!  \nThe Horseshoe Grille takes great pride in being able to treat our well-deserving Veterans to a free dinner. Reservations required. Call to reserve today! 978-664-3591 \nA select menu is available. Entrees and non-alcoholic beverages are included. 20% gratuity will be added on the pre-discount amount.
URL:https://horseshoegrille.com/event/all-veterans-receive-a-free-entree-on-veterans-day/
LOCATION:Horseshoe Grille\, 226 Main Street\, North Reading\, 01864\, United States
CATEGORIES:Events
ATTACH;FMTTYPE=image/jpeg:https://horseshoegrille.com/wp-content/uploads/2018/10/VetDinner.jpg
END:VEVENT
BEGIN:VEVENT
DTSTART;VALUE=DATE:20191127
DTEND;VALUE=DATE:20191226
DTSTAMP:20260419T084123
CREATED:20191127T175116Z
LAST-MODIFIED:20191127T175141Z
UID:1476-1574812800-1577318399@horseshoegrille.com
SUMMARY:For every $100 of Gift Cards purchased\, we will give you a $20 coupon
DESCRIPTION:Purchase Gift Cards
URL:https://horseshoegrille.com/event/for-every-100-of-gift-cards-purchased-we-will-give-you-a-20-coupon/
LOCATION:Horseshoe Grille\, 226 Main Street\, North Reading\, 01864\, United States
CATEGORIES:Events
ATTACH;FMTTYPE=image/png:https://horseshoegrille.com/wp-content/uploads/2019/11/HolidaySpecial.png
END:VEVENT
BEGIN:VEVENT
DTSTART;TZID=America/New_York:20191127T190000
DTEND;TZID=America/New_York:20191127T220000
DTSTAMP:20260419T084123
CREATED:20191120T183551Z
LAST-MODIFIED:20191120T183551Z
UID:1356-1574881200-1574892000@horseshoegrille.com
SUMMARY:Night Before Thanksgiving Party Patio!
DESCRIPTION:Come party with us!\nWednesday\, November 27\, Starts at 7pm
URL:https://horseshoegrille.com/event/night-before-thanksgiving-party-patio/
LOCATION:Horseshoe Grille\, 226 Main Street\, North Reading\, 01864\, United States
CATEGORIES:Events
ATTACH;FMTTYPE=image/png:https://horseshoegrille.com/wp-content/uploads/2019/11/PartyOnPatio.png
END:VEVENT
BEGIN:VEVENT
DTSTART;TZID=America/New_York:20191128T080000
DTEND;TZID=America/New_York:20191128T110000
DTSTAMP:20260419T084123
CREATED:20191120T184015Z
LAST-MODIFIED:20191120T184015Z
UID:1359-1574928000-1574938800@horseshoegrille.com
SUMMARY:Thanksgiving Breakfast
DESCRIPTION:November 28\, 8-11am \n25% OFF\nFor All The Turkey Trot Runners!\nPlease join us for a delicious\, warm breakfast after the big run.
URL:https://horseshoegrille.com/event/thanksgiving-breakfast-2/
LOCATION:Horseshoe Grille\, 226 Main Street\, North Reading\, 01864\, United States
CATEGORIES:Events
ATTACH;FMTTYPE=image/png:https://horseshoegrille.com/wp-content/uploads/2019/11/Tgiving.png
END:VEVENT
END:VCALENDAR